Workbook

Sheet Sheet1
A1: Załącznik Nr 2 do oferty FORMULARZ ASORTYMENTOWO- CENOWY Nazwa Wykonawcy ................................................................................................. Adres Wykonawcy ................................................................................................. Miejscowość ................................................ Data ..................... Cenowa oferta za wykonanie przedmiotu zamówienia w okresie trwania umowy - 24 miesięcy od dnia podpisania umowy
B7: Część 1
A8: Lp. | B8: Przedmiot zamówienia | C8: J.m. | D8: Ilość | E8: Cena netto | F8: Cena brutto | G8: Wartość brutto | H8: Vat | I8: Nazwa handlowa | J8: Producent | K8: Numer katalogowy / kod asortymentu
B9: Siatkowy rękaw opatrunkowy o bardzo dużej elastyczności; przeznaczony m. in. do podtrzymywania opatrunku w trudno dostępnych miejscach. Długość 10 metrów – mierzona w stanie relaksacyjnym.
A10: 1 | B10: Do opatrywania dłoni, palca (rozmiar 2) | C10: op | D10: 20
A11: 2 | B11: Do opatrywania dłoni, stopy (rozmiar 3) (próbka 2 sztuki) | C11: op | D11: 200
A12: 3 | B12: Do opatrywania głowa, ramię, podudzie, kolano (rozmiar 6) | C12: op | D12: 180
A13: 4 | B13: Do opatrywania udo, głowa, biodra (rozmiar 8) | C13: op | D13: 60
A14: 5 | B14: Do opatrywania biodra, brzuch (rozmiar 10) | C14: op | D14: 20
A15: 6 | B15: Do opatrywania klatka piersiowa, brzuch (rozmiar 14) | C15: op | D15: 20
G16: =SUM(G10:G15) -> 0
B17: Część 2
A18: Lp. | B18: Przedmiot zamówienia | C18: J.m. | D18: Ilość | E18: Cena netto | F18: Cena brutto | G18: Wartość brutto | H18: Vat | I18: Nazwa handlowa | J18: Producent | K18: Numer katalogowy / kod asortymentu
B19: Pieluchomajtki dla dorosłych; posiadające delikatny elastyczny ściągacz w pasie z przodu i z tyłu lub jeden ściągacz taliowy w tylnej części produktu, podwójne elastyczne przylepcorzepy, wskaźnik wilgotności w postaci co najmniej jednego paska zmieniającego kolor podczas napełnienia się produktu, produkt oddychający na całej powierzchni (warstwy boczne jak również wewnętrzna oraz zewnętrzna strona wkładu chłonnego), dwie warstwy celulozy. Pakowane w opakowanie po 30 szt.
A20: 1 | B20: Obwód w pasie od 73-75 do 110-130 cm, chłonność min 2200g. Potwierdzona kartą techniczą produktu | C20: op | D20: 100
G21: =SUM(G20:G20) -> 0
B22: Część 3
A23: Lp. | B23: Przedmiot zamówienia | C23: J.m. | D23: Ilość | E23: Cena netto | F23: Cena brutto | G23: Wartość brutto | H23: Vat | I23: Nazwa handlowa | J23: Producent | K23: Numer katalogowy / kod asortymentu
B24: Pieluchomajtki dla dorosłych; posiadające delikatny elastyczny ściągacz w pasie z przodu i z tyłu lub jeden ściągacz taliowy w tylnej części produktu, podwójne elastyczne przylepcorzepy, wskaźnik wilgotności w postaci co najmniej jednego paska zmieniającego kolor podczas napełnienia się produktu, produkt oddychający na całej powierzchni (warstwy boczne jak również wewnętrzna oraz zewnętrzna strona wkładu chłonnego), dwie warstwy celulozy. Pakowane w opakowanie po 30 szt.
A25: 1 | B25: Obwód pas / biodra: od 90 – 100cm do 140 – 160cm; chłonność minimum 2500 g Potwierdzona kartą techniczą produktu | C25: op | D25: 3000
G26: =SUM(G25:G25) -> 0
B28: Część 4
A29: Lp. | B29: Przedmiot zamówienia | C29: J.m. | D29: Ilość | E29: Cena netto | F29: Cena brutto | G29: Wartość brutto | H29: Vat | I29: Nazwa handlowa | J29: Producent | K29: Numer katalogowy / kod asortymentu
B30: Pieluchomajtki dla dorosłych; posiadające delikatny elastyczny ściągacz w pasie z przodu i z tyłu lub jeden ściągacz taliowy w tylnej części produktu, podwójne elastyczne przylepcorzepy, wskaźnik wilgotności w postaci co najmniej jednego paska zmieniającego kolor podczas napełnienia się produktu, produkt oddychający na całej powierzchni (warstwy boczne jak również wewnętrzna oraz zewnętrzna strona wkładu chłonnego), dwie warstwy celulozy. Pakowane w opakowanie po 30 szt.
A31: 1 | B31: Obwód pas / biodra: od 110-130 do 160 - 170cm; chłonność minimum 2500 g Potwierdzona kartą techniczą produktu | C31: op | D31: 600
G32: =SUM(G31:G31) -> 0
B33: Część 5
A34: Lp. | B34: Przedmiot zamówienia | C34: J.m. | D34: Ilość | E34: Cena jednostkowa netto za opakowanie | F34: Cena jednostkowa brutto za opakowanie | G34: Wartość netto | H34: Wartość brutto | I34: Vat % | J34: Nazwa handlowa | K34: Producent
A35: 1 | B35: Pianka myjąco-pielęgnująca do codziennej pielęgnacji skóry skłonnej do podrażnień ze składnikiem pochłaniającym mocz. Przebadana dermatologicznie, hypoarelgiczna. Pojemność 500ml | C35: szt. | D35: 600
G36: =SUM(G35:G35) -> 0 | H36: =SUM(H35:H35) -> 0
B37: Część 6
A38: Lp. | B38: Przedmiot zamówienia | C38: J.m. | D38: Ilość | E38: Cena netto | F38: Cena brutto | G38: Wartość brutto | H38: Vat | I38: Nazwa handlowa | J38: Producent | K38: Numer katalogowy / kod asortymentu
A39: 1 | B39: Żel aktywizujący do codziennego aktywizowania skóry wrażliwej, narażonej na powstawanie odparzeń i odleżyn. Wspomaga mikrocyrkulację krwi w skórze, działa pobudzająco i odświeżająco. Nawilża skórę, odpręża mięśnie. W składzie zawiera: guaranę, kamforę, kofeinę, biokompleks lniany, bisabolol, alantoinę. Przebadana dermatologicznie, hypoarelgiczna. Opakowanie a 250ml. | C39: szt | D39: 100
G40: =SUM(G39:G39) -> 0
B41: Część 7
A42: Lp. | B42: Przedmiot zamówienia | C42: J.m. | D42: Ilość | E42: Cena netto | F42: Cena brutto | G42: Wartość brutto | H42: Vat | I42: Nazwa handlowa | J42: Producent | K42: Numer katalogowy / kod asortymentu
A43: 1 | B43: Wilgotne chusteczki pielęgnacyjne nie naruszające bariery ochronnej skóry dzięki pH 5,5 o wym. 200 x 300 mm , pakowane a’50 szt. Zawierają wyciąg z rumianku. | C43: op | D43: 1000
G44: =SUM(G43:G43) -> 0
B45: Część 8
A46: Lp. | B46: Przedmiot zamówienia | C46: J.m. | D46: Ilość | E46: Cena netto | F46: Cena brutto | G46: Wartość brutto | H46: Vat | I46: Nazwa handlowa | J46: Producent | K46: Numer katalogowy / kod asortymentu
...

Sheet Sheet2
C2: =Sheet1!B7 -> Część 1 | D2: =Sheet1!G16 -> 0
C3: =Sheet1!B17 -> Część 2 | D3: =Sheet1!G21 -> 0
C4: =Sheet1!B22 -> Część 3 | D4: =Sheet1!G26 -> 0
C5: =Sheet1!B28 -> Część 4 | D5: =Sheet1!G32 -> 0
C6: =Sheet1!B33 -> Część 5 | D6: =Sheet1!H36 -> 0
C7: =Sheet1!B37 -> Część 6 | D7: =Sheet1!G40 -> 0
C8: =Sheet1!B41 -> Część 7 | D8: =Sheet1!G44 -> 0
C9: =Sheet1!B45 -> Część 8 | D9: =Sheet1!G48 -> 0
C10: =Sheet1!B49 -> Część 9 | D10: =Sheet1!H85 -> 0
C11: =Sheet1!B93 -> Część 10 | D11: =Sheet1!G96 -> 0
C12: =Sheet1!B97 -> Część 11 | D12: =Sheet1!G111 -> 0
C13: =Sheet1!B112 -> Część 12 | D13: =Sheet1!H118 -> 0
C14: =Sheet1!B120 -> Część 13 | D14: =Sheet1!F125 -> 0
C15: =Sheet1!B127 -> Część 14 | D15: =Sheet1!F131 -> 0
C16: =Sheet1!B133 -> Część 15 | D16: =Sheet1!F139 -> 0
C17: =Sheet1!B141 -> Część 16 | D17: =Sheet1!H171 -> 0
C18: =Sheet1!B174 -> Część 17 | D18: =Sheet1!H216 -> 0
C19: =Sheet1!B218 -> Część 18 | D19: =Sheet1!H221 -> 0
C20: =Sheet1!B223 -> Część 19 | D20: =Sheet1!H226 -> 0
D21: =SUM(D2:D20) -> 0
