Workbook

Sheet Sheet1
A1: Załącznik Nr 2 do oferty FORMULARZ ASORTYMENTOWO- CENOWY Nazwa Wykonawcy ................................................................................................. Adres Wykonawcy ................................................................................................. Miejscowość ................................................ Data ..................... Cenowa oferta za wykonanie przedmiotu zamówienia w okresie trwania umowy - 24 miesięcy od dnia podpisania umowy
B7: Część 1
A8: Lp. | B8: Przedmiot zamówienia | C8: J.m. | D8: Ilość | E8: Cena netto | F8: Cena brutto | G8: Wartość brutto | H8: Vat | I8: Nazwa handlowa | J8: Producent | K8: Numer katalogowy / kod asortymentu
B9: Siatkowy rękaw opatrunkowy o bardzo dużej elastyczności; przeznaczony m. in. do podtrzymywania opatrunku w trudno dostępnych miejscach. Długość 10 metrów – mierzona w stanie relaksacyjnym.
A10: 1 | B10: Do opatrywania dłoni, palca (rozmiar 2) | C10: op | D10: 20
A11: 2 | B11: Do opatrywania dłoni, stopy (rozmiar 3) (próbka 2 sztuki) | C11: op | D11: 200
A12: 3 | B12: Do opatrywania głowa, ramię, podudzie, kolano (rozmiar 6) | C12: op | D12: 180
A13: 4 | B13: Do opatrywania udo, głowa, biodra (rozmiar 8) | C13: op | D13: 60
A14: 5 | B14: Do opatrywania biodra, brzuch (rozmiar 10) | C14: op | D14: 20
A15: 6 | B15: Do opatrywania klatka piersiowa, brzuch (rozmiar 14) | C15: op | D15: 20
G16: =SUM(G10:G15) -> 0
B17: Część 2
A18: Lp. | B18: Przedmiot zamówienia | C18: J.m. | D18: Ilość | E18: Cena netto | F18: Cena brutto | G18: Wartość brutto | H18: Vat | I18: Nazwa handlowa | J18: Producent | K18: Numer katalogowy / kod asortymentu
B19: Pieluchomajtki dla dorosłych; posiadające delikatny elastyczny ściągacz w pasie z przodu i z tyłu lub jeden ściągacz taliowy w tylnej części produktu, podwójne elastyczne przylepcorzepy, wskaźnik wilgotności w postaci co najmniej jednego paska zmieniającego kolor podczas napełnienia się produktu, produkt oddychający na całej powierzchni (warstwy boczne jak również wewnętrzna oraz zewnętrzna strona wkładu chłonnego), dwie warstwy celulozy. Pakowane w opakowanie po 30 szt.
A20: 1 | B20: Obwód w pasie od 73-75 do 110-130 cm, chłonność min 2200g. Potwierdzona kartą techniczą produktu | C20: op | D20: 100
G21: =SUM(G20:G20) -> 0
B22: Część 3
A23: Lp. | B23: Przedmiot zamówienia | C23: J.m. | D23: Ilość | E23: Cena netto | F23: Cena brutto | G23: Wartość brutto | H23: Vat | I23: Nazwa handlowa | J23: Producent | K23: Numer katalogowy / kod asortymentu
B24: Pieluchomajtki dla dorosłych; posiadające delikatny elastyczny ściągacz w pasie z przodu i z tyłu lub jeden ściągacz taliowy w tylnej części produktu, podwójne elastyczne przylepcorzepy, wskaźnik wilgotności w postaci co najmniej jednego paska zmieniającego kolor podczas napełnienia się produktu, produkt oddychający na całej powierzchni (warstwy boczne jak również wewnętrzna oraz zewnętrzna strona wkładu chłonnego), dwie warstwy celulozy. Pakowane w opakowanie po 30 szt.
A25: 1 | B25: Obwód pas / biodra: od 90 – 100cm do 140 – 160cm; chłonność minimum 2500 g Potwierdzona kartą techniczą produktu | C25: op | D25: 3000
G26: =SUM(G25:G25) -> 0
B28: Część 4
A29: Lp. | B29: Przedmiot zamówienia | C29: J.m. | D29: Ilość | E29: Cena netto | F29: Cena brutto | G29: Wartość brutto | H29: Vat | I29: Nazwa handlowa | J29: Producent | K29: Numer katalogowy / kod asortymentu
B30: Pieluchomajtki dla dorosłych; posiadające delikatny elastyczny ściągacz w pasie z przodu i z tyłu lub jeden ściągacz taliowy w tylnej części produktu, podwójne elastyczne przylepcorzepy, wskaźnik wilgotności w postaci co najmniej jednego paska zmieniającego kolor podczas napełnienia się produktu, produkt oddychający na całej powierzchni (warstwy boczne jak również wewnętrzna oraz zewnętrzna strona wkładu chłonnego), dwie warstwy celulozy. Pakowane w opakowanie po 30 szt.
A31: 1 | B31: Obwód pas / biodra: od 110-130 do 160 - 170cm; chłonność minimum 2500 g Potwierdzona kartą techniczą produktu | C31: op | D31: 600
G32: =SUM(G31:G31) -> 0
B33: Część 5
A34: Lp. | B34: Przedmiot zamówienia | C34: J.m. | D34: Ilość | E34: Cena jednostkowa netto za opakowanie | F34: Cena jednostkowa brutto za opakowanie | G34: Wartość netto | H34: Wartość brutto | I34: Vat % | J34: Nazwa handlowa | K34: Producent
A35: 1 | B35: Pianka myjąco-pielęgnująca do codziennej pielęgnacji skóry skłonnej do podrażnień ze składnikiem pochłaniającym mocz. Przebadana dermatologicznie, hypoarelgiczna. Pojemność 500ml | C35: szt. | D35: 600
G36: =SUM(G35:G35) -> 0 | H36: =SUM(H35:H35) -> 0
B37: Część 6
A38: Lp. | B38: Przedmiot zamówienia | C38: J.m. | D38: Ilość | E38: Cena netto | F38: Cena brutto | G38: Wartość brutto | H38: Vat | I38: Nazwa handlowa | J38: Producent | K38: Numer katalogowy / kod asortymentu
A39: 1 | B39: Żel aktywizujący do codziennego aktywizowania skóry wrażliwej, narażonej na powstawanie odparzeń i odleżyn. Wspomaga mikrocyrkulację krwi w skórze, działa pobudzająco i odświeżająco. Nawilża skórę, odpręża mięśnie. W składzie zawiera: guaranę, kamforę, kofeinę, biokompleks lniany, bisabolol, alantoinę. Przebadana dermatologicznie, hypoarelgiczna. Opakowanie a 250ml. | C39: szt | D39: 100
G40: =SUM(G39:G39) -> 0
B41: Część 7
A42: Lp. | B42: Przedmiot zamówienia | C42: J.m. | D42: Ilość | E42: Cena netto | F42: Cena brutto | G42: Wartość brutto | H42: Vat | I42: Nazwa handlowa | J42: Producent | K42: Numer katalogowy / kod asortymentu
A43: 1 | B43: Wilgotne chusteczki pielęgnacyjne nie naruszające bariery ochronnej skóry dzięki pH 5,5 o wym. 200 x 300 mm , pakowane a’50 szt. Zawierają wyciąg z rumianku. | C43: op | D43: 1000
G44: =SUM(G43:G43) -> 0
B45: Część 8
A46: Lp. | B46: Przedmiot zamówienia | C46: J.m. | D46: Ilość | E46: Cena netto | F46: Cena brutto | G46: Wartość brutto | H46: Vat | I46: Nazwa handlowa | J46: Producent | K46: Numer katalogowy / kod asortymentu
A47: 1 | B47: Krem ochronny z tlenkiem cynku do ochrony skóry narażonej na odparzenia i odleżyny, ze składnikiem pochłaniającym zapach moczu. Pojemność 200ml. Przebadana dermatologicznie, hypoarelgiczna. | C47: op | D47: 100
G48: =SUM(G47:G47) -> 0
B49: Część 9
A50: Lp. | B50: Przedmiot zamówienia | C50: J.m. | D50: Ilość | E50: Cena jednostkowa netto za opakowanie | F50: Cena jednostkowa brutto za opakowanie | G50: Wartość netto | H50: Wartość brutto | I50: Vat % | J50: Nazwa handlowa | K50: Producent
A51: 1 | B51: gaza dawka: 1 m2 jałowa | C51: szt. | D51: 1400
A52: 2 | B52: gaza dawka: 1/2 m2 jałowa | C52: szt. | D52: 1400
A53: 3 | B53: kompres dawka: 10cmx10cm/100szt niejałowy | C53: op. | D53: 300
A54: 4 | B54: kompres dawka: 5cm x 5cm / 100szt niejałowy | C54: op. | D54: 1710
A55: 5 | B55: kompres dawka: 5cm x 5cm / 3szt jałowy | C55: op. | D55: 35000
A56: 6 | B56: kompres dawka: 7,5cm x 7,5cm / 100szt niejałowy | C56: op. | D56: 500
A57: 7 | B57: kompres dawka: 7,5 cm x 7,5cm / 3szt jałowy | C57: op. | D57: 4000
A58: 8 | B58: kompres dawka: 10cm x 10cm / 3szt jałowy | C58: op. | D58: 8000
A59: 9 | B59: lignina dawka:40 x 60 op. 5kg | C59: op. | D59: 40
A60: 11 | B60: myjka podfoliowana op. 50 szt. | C60: op. | D60: 1288
A61: 12 | B61: opaska dawka: 4mx10cm/1szt wisk.-dziana | C61: szt. | D61: 7000
A62: 13 | B62: opaska dawka: 4mx15cm/1szt wisk.-dziana | C62: szt. | D62: 1000
... A84: 38 | B84: zestaw do zdjęcia szwów zawierający 3 x tampony (tupfery) włókninowe wielkości śliwki 1 x pęseta anatomiczna metalowa typu Adson 12 cm 1 x pęseta anatomiczna plastikowa 12,5 cm 1 x ostrze - skalpel 6,5 cm (zapakowane) | C84: op. | D84: 38
G85: =SUM(G51:G84) -> 0 | H85: =SUM(H51:H84) -> 0
B86: Uwagi Zamawiającego
B87: Dotyczy części 9
A88: 1 | B88: Zamawiający wymaga aby masa powierzchniowa gazy, z której wykonane są wyroby była zgodna z normą PN-EN 14079 oraz Farmakopeą Polską i wynosiła minimum:
A89: * | B89: Dla gazy 13 nitkowej – 17 g/m2
A90: * | B90: Dla gazy 17 nitkowej – 23g/m2
A91: 2 | B91: W celu weryfikacji wymogów siwz, zamawiajacy na każdym etapie postepowania może żądać próbek oferowanych wyrobów oraz kart charakterystyki i danych technicznych
B93: Część 10
A94: Lp. | B94: Przedmiot zamówienia | C94: J.m. | D94: Ilość | E94: Cena netto | F94: Cena brutto | G94: Wartość brutto | H94: Vat | I94: Nazwa handlowa | J94: Producent | K94: Numer katalogowy / kod asortymentu
A95: 1 | B95: Podkład zabezpieczający łóżko przed zabrudzeniem. Wysokochłonny wkład oraz wodoodporna warstwa zewnętrzna, zapewniająca wysoki poziom bezpieczeństwa przed zabrudzeniem pościeli. Jednorazowego użytku. Niejałowy. Rozmiar podkładu 60cm x 90cm; rozmiar warstwy chłonnej nie mniejszy jak 55cm ± 5cm x 80cm ± 5cm. Pakowany po 30sztuk Chłonność minimum 2000ml potwierdzona kartą techniczną produktu | C95: op | D95: 600
G96: =SUM(G95:G95) -> 0
B97: Część 11
A98: Lp. | B98: Przedmiot zamówienia | C98: J.m. | D98: Ilość | E98: Cena netto | F98: Cena brutto | G98: Wartość brutto | H98: Vat | I98: Nazwa handlowa | J98: Producent | K98: Numer katalogowy / kod asortymentu
A99: 1 | B99: Samoprzylepny opatrunek hydrokoloidowy; kompozycja trzech hydrokoloidów zawieszonych w macierzy polimerowej (karboksymetyloceluloza sodowa, pektyna, żelatyna). Zapewniający odpowiednie, wilgotne środowisko leczenia ran, pochłaniający równocześnie nadmiar wysięku. Rozmiar 10cm x 10cm (próbki 2op.) | C99: szt | D99: 400
A100: 2 | B100: J.w. Rozmiar: 20cmx20cm | C100: szt | D100: 20
A101: 3 | B101: Samoprzylepny opatrunek hydrokoloidowy. Extra cienki, półprzezroczysty. Rozmiar 10cmx10cm (próbki 2op.) | C101: szt | D101: 20
A102: 4 | B102: J.w. Rozmiar: 7,5cmx7,5cm | C102: szt | D102: 10
A103: 5 | B103: J.w. Rozmiar: 15cmx15cm | C103: szt | D103: 10
A104: 6 | B104: Opatrunek antybakteryjny, chłonny z jonami srebra w technologii hydrofiber. Posiadający przeszycia elastonowe. Zwalczający biofilm w ranie. Rozmiar 10cmx10cm (próbki 2op.) | C104: szt | D104: 40
A105: 7 | B105: Opatrunek antybakteryjny, chłonny z jonami srebra w technologii hydrofiber. Posiadający przeszycia elastonowe. Zwalczający biofilm w ranie. Rozmiar 15cmx15cm | C105: szt | D105: 10
A106: 8 | B106: Opatrunek chłonny, antybakteryjny z jonami srebra, posiadający przeszycie elastonowe. Zbydowany w technologii hydrofiber. Rozmiar 10cmx10cm (próbki 2op.) | C106: szt | D106: 500
A107: 9 | B107: Opatrunek chłonny, antybakteryjny z jonami srebra, posiadający przeszycie elastonowe. Zbydowany w technologii hydrofiber. Rozmiar 15cmx15cm | C107: szt | D107: 40
A108: 10 | B108: Opatrunek chłonny, piankowy, składający się z 3 warstw. Warstwa kontaktowa z raną wykonana w technologii hydrofiber. Opatrunek przylepny. Rozmiar 12,5cmx12,5cm (próbki 2op.) | C108: szt | D108: 40
A109: 11 | B109: Opatrunek chłonny, piankowy, składający się z 3 warstw. Warstwa kontaktowa z raną wykonana w technologii hydrofiber. Opatrunek przylepny. Rozmiar 17,5cmx17,5cm | C109: szt | D109: 40
A110: 12 | B110: Samoprzylepny opatrunek hydrokoloidowy; kompozycja trzech hydrokoloidów zawieszonych w macierzy polimerowej (karboksymetyloceluloza sodowa, pektyna, żelatyna). Zapewniający odpowiednie, wilgotne środowisko leczenia ran, pochłaniający równocześnie nadmiar wysięku. Cienkie krawędzie i gładka powierzchnia ograniczające ryzyko rolowania się opatrunku. Półprzezroczysty w anatomicznym kształcie na kość krzyżową. Rozmiar 20cm x 22,5cm | C110: szt | D110: 20
G111: =SUM(G99:G110) -> 0
B112: Część 12
A113: Lp. | B113: Nazwa leku, postać, dawka | C113: Jedn | D113: Ilość | E113: Cena jednostkowa brutto | F113: Cena jednostkowa netto | G113: Wartość netto | H113: Wartość brutto | I113: Vat | J113: Producent | K113: Nazwa handlowa preparatu
A114: 1 | B114: Sterylny, gotowy do użycia roztwór służący do irygacji, czyszczenia, nawilżania ran ostrych, przewlekłych jak i oparzeniowych I-II stopnia ,bez ograniczeń dotyczących czasu stosowania, usuwania biofilmu z rany w sposób zapewniający ochronę tkanki; do błon śluzowych przed cewnikowaniem, do pielęgnacji skóry wokół dostępów naczyniowych obwodowych i centralnych oraz dostępów do przewodu pokarmowego PEG, PEJ, bezzapachowy, zawierający poliheksanidynę i betainę; bez zawartości dodatkowych substancji czynnych takich jak jodopowidon, dichlorowodorek oktenidyny. chlorheksydyna. Bez zawartości glicerolu. Minimalizujący ból , fetor oraz stabilizujący pH w ranie na poziomie fizjologicznym. Wykazujący skuteczność bójczą wobec szczepów wielolekoopornych. Możliwość stosowania: u dzieci od 1 dnia życia, w terapii podciśnieniowej, w połączeniu z opatrunkami srebrowymi. Po otwarciu możliwość stosowania przez 8 tygodni. Wyrób medyczny klasy III.
A115: 2 | B115: J.w. opakowanie 40ml x 24but | C115: op | D115: 10
A116: 3 | B116: J.w. opakowanie 350ml | C116: op | D116: 80
A117: 4 | B117: J.w. opakowanie 1000ml | C117: op | D117: 120
G118: =SUM(G114:G117) -> 0 | H118: =SUM(H114:H117) -> 0
B120: Część 13
A121: Lp. | B121: Przedmiot zamówienia | C121: J.m. | D121: Ilość | E121: Cena brutto | F121: Wartość brutto | G121: Vat | H121: Nazwa handlowa | I121: Producent/Wytwórca | J121: Numer katalogowy / kod asortymentu
A122: 1 | B122: Preparat do higienicznego i chirurgicznego mycia rąk. Opakowanie 1L system zamknięty (mogący być użyty w dozownikach metalowych typu dispenso, będących na wyposażeniu szpitala). Zamawiający wymaga badania potwierdzającego hypoalergiczność preparatu. | C122: op | D122: 2000
A123: 2 | B123: Tiksotropowy żelowy hypoalergiczny o neutralnym dla skóry pH, preparat na bazie alkoholu etylowego (57g/100g) oraz alkoholu izopropylowego (6g/100g), bez zawartości barwników, dodatkowych substancji zapachowych, bisabololu, chlorheksydyny, biguanidu i pochodnych fenolowych do dezynfekcji higienicznej i chirurgicznej rąk o szerokim spektrum mikrobójczym: B(MRSA), F, Tbc (M.Avium i M.Terrae), V(Noro, Adeno i Polio) w czasie do 30 sekund. Skuteczność mikrobójcza potwierdzona badaniami wykonanymi zgodnie z normami: PN-EN 1500, EN 12791, EN 13727, EN 1275, EN 14348, EN 1447. Chirurgiczna dezynfekcja rąk zgodnie z normą PN-EN 12791 w czasie 90 sekund. W opakowaniach o pojemności 1L – system zamknięty (mogący być użyty w dozownikach metalowych typu dispenso będących na wyposażeniu szpitala). (Oferent zobowiązany jest do dostarczenia dodatkowo do 200 dozowników w razie potrzeby zamawiającego). | C123: op | D123: 1400
A124: 3 | B124: Bogaty w składniki odżywcze krem typu W/O do pielęgnacji skóry rąk osób narażonych na częsty kontakt z detergentami i środkami dezynfekcyjnymi. Zawierający w składzie koktajl naturalnych substancji odżywiających i nawilżających, które wspomagają szybszą regenerację płaszcza lipidowego tworząc naturalną osłonę: witaminy A,E i C, glicerynę. Substancje w postaci kwasu hialuronowego oraz mocznika wspomagające regenerację płaszcza lipidowego. Nie zawierający parabenów, wosku pszczelego i kolagenu. Opakowanie 500ml dostosowane do dozowników typu Dermados. Klasa produktu kosmetyk, wpis do CPNP. Opakowanie 1L system zamknięty (mogący być użyty w dozownikach metalowych typu dispenso, będących na wyposażeniu szpitala). | C124: op | D124: 100
E125: =F125/1.08 -> 0 | F125: =SUM(F122:F124) -> 0
B127: Część 14
A128: Lp. | B128: Przedmiot zamówienia | C128: J.m. | D128: Ilość | E128: Cena brutto | F128: Wartość brutto | G128: Vat | H128: Nazwa handlowa | I128: Producent/Wytwórca | J128: Numer katalogowy / kod asortymentu
A129: 1 | B129: Preparat przeznaczony do odkażania błon śluzowych oraz graniczącej z nimi skóry przed: operacjami, zabiegami ginekologicznymi i położniczymi, cewnikowaniem pęcherza moczowego, zabiegami przezcewkowymi. Preparat o działaniu bakteriobójczym, grzybobójczym, pierwotniakobójczym, wirusobójczym w stosunku do wirusa Herpes Simplex, inaktywuje wirusy HBV i HIV. Preparat autosterylny. Nadtlenek wodoru gwarantuje, że preparat jest wolny od przetrwalników przy produkcji, przelewaniu i napełnianiu. Zawarty w preparacie nadtlenek wodoru niszczy przetrwalniki bakterii, które mogą się dostać ponownie do roztworu. 100 g roztworu zawiera:10,4 g etanolu (96%); 1,67 g roztworu nadtlenku wodoru (30%); 1,50 g roztworu dwuglukonianu chlorheksydyny (20%). Opak. 1000ml | C129: op | D129: 60
A130: 2 | B130: Preparat przeznaczony do odkażania błon śluzowych oraz graniczącej z nimi skóry przed: operacjami, zabiegami ginekologicznymi i położniczymi, cewnikowaniem pęcherza moczowego, zabiegami przezcewkowymi. Preparat o działaniu bakteriobójczym, grzybobójczym, pierwotniakobójczym, wirusobójczym w stosunku do wirusa Herpes Simplex, inaktywuje wirusy HBV i HIV. Preparat autosterylny. Nadtlenek wodoru gwarantuje, że preparat jest wolny od przetrwalników przy produkcji, przelewaniu i napełnianiu. Zawarty w preparacie nadtlenek wodoru niszczy przetrwalniki bakterii, które mogą się dostać ponownie do roztworu. 100 g roztworu zawiera:10,4 g etanolu (96%); 1,67 g roztworu nadtlenku wodoru (30%); 1,50 g roztworu dwuglukonianu chlorheksydyny (20%). Opak. 500Ml | C130: op | D130: 40
...

Sheet Sheet2
C2: =Sheet1!B7 -> Część 1 | D2: =Sheet1!G16 -> 0
C3: =Sheet1!B17 -> Część 2 | D3: =Sheet1!G21 -> 0
C4: =Sheet1!B22 -> Część 3 | D4: =Sheet1!G26 -> 0
C5: =Sheet1!B28 -> Część 4 | D5: =Sheet1!G32 -> 0
C6: =Sheet1!B33 -> Część 5 | D6: =Sheet1!H36 -> 0
C7: =Sheet1!B37 -> Część 6 | D7: =Sheet1!G40 -> 0
C8: =Sheet1!B41 -> Część 7 | D8: =Sheet1!G44 -> 0
C9: =Sheet1!B45 -> Część 8 | D9: =Sheet1!G48 -> 0
C10: =Sheet1!B49 -> Część 9 | D10: =Sheet1!H85 -> 0
C11: =Sheet1!B93 -> Część 10 | D11: =Sheet1!G96 -> 0
C12: =Sheet1!B97 -> Część 11 | D12: =Sheet1!G111 -> 0
C13: =Sheet1!B112 -> Część 12 | D13: =Sheet1!H118 -> 0
C14: =Sheet1!B120 -> Część 13 | D14: =Sheet1!F125 -> 0
C15: =Sheet1!B127 -> Część 14 | D15: =Sheet1!F131 -> 0
C16: =Sheet1!B133 -> Część 15 | D16: =Sheet1!F139 -> 0
C17: =Sheet1!B141 -> Część 16 | D17: =Sheet1!H171 -> 0
C18: =Sheet1!B174 -> Część 17 | D18: =Sheet1!H216 -> 0
C19: =Sheet1!B218 -> Część 18 | D19: =Sheet1!H221 -> 0
C20: =Sheet1!B223 -> Część 19 | D20: =Sheet1!H226 -> 0
D21: =SUM(D2:D20) -> 0
